BEGIN:VCALENDAR
VERSION:2.0
PRODID:-//Plone.org//NONSGML plone.app.event//EN
X-WR-TIMEZONE:Europe/Berlin
BEGIN:VEVENT
SUMMARY:Kunstpause: Carl Spitzweg\, Der Briefbote im Rosenthal
DTSTART;TZID=Europe/Berlin:20240925T123000
DTEND;TZID=Europe/Berlin:20240925T130000
DTSTAMP:20260421T190755Z
UID:619d371d91fc4da1a8b908df4d2ece2d@www.uni-marburg.de
CREATED:20210804T144142Z
DESCRIPTION:https://www.uni-marburg.de/de/museum/aktuelles/termine/kunstpa
 use-carl-spitzweg-der-briefbote\n
LAST-MODIFIED:20240626T093257Z
LOCATION:Kunstmuseum Marburg
URL:https://www.uni-marburg.de/de/museum/aktuelles/termine/kunstpause-carl
 -spitzweg-der-briefbote
END:VEVENT
BEGIN:VTIMEZONE
TZID:Europe/Berlin
X-LIC-LOCATION:Europe/Berlin
BEGIN:DAYLIGHT
DTSTART:20240331T030000
TZNAME:CEST
TZOFFSETFROM:+0100
TZOFFSETTO:+0200
END:DAYLIGHT
END:VTIMEZONE
END:VCALENDAR
