BEGIN:VCALENDAR
VERSION:2.0
PRODID:-//Plone.org//NONSGML plone.app.event//EN
X-WR-TIMEZONE:Europe/Berlin
BEGIN:VEVENT
SUMMARY:Kunstpause: Christian Rohlfs\, Frau mit Amor
DTSTART;TZID=Europe/Berlin:20240703T123000
DTEND;TZID=Europe/Berlin:20240703T130000
DTSTAMP:20260421T190928Z
UID:5c190046493c41aeb62f336c4a5afe9e@www.uni-marburg.de
CREATED:20210804T144142Z
DESCRIPTION:https://www.uni-marburg.de/de/museum/aktuelles/termine/kunstpa
 use-christian-rohlfs\n
LAST-MODIFIED:20240626T092505Z
LOCATION:Kunstmuseum Marburg
URL:https://www.uni-marburg.de/de/museum/aktuelles/termine/kunstpause-chri
 stian-rohlfs
END:VEVENT
BEGIN:VTIMEZONE
TZID:Europe/Berlin
X-LIC-LOCATION:Europe/Berlin
BEGIN:DAYLIGHT
DTSTART:20240331T030000
TZNAME:CEST
TZOFFSETFROM:+0100
TZOFFSETTO:+0200
END:DAYLIGHT
END:VTIMEZONE
END:VCALENDAR
