BEGIN:VCALENDAR
VERSION:2.0
PRODID:-//Plone.org//NONSGML plone.app.event//EN
X-WR-TIMEZONE:Europe/Berlin
BEGIN:VEVENT
SUMMARY:Kunstpause: Cornelius Jacobsz. Drebbel\, Die Astronomie
DTSTART;TZID=Europe/Berlin:20240717T123000
DTEND;TZID=Europe/Berlin:20240717T130000
DTSTAMP:20260420T104821Z
UID:4d798cc8331142129c46acaa2fd39f03@www.uni-marburg.de
CREATED:20210804T144142Z
DESCRIPTION:https://www.uni-marburg.de/de/museum/aktuelles/termine/kunstpa
 use-cornelius-jacobsz-drebbel-die-astronomie\n
LAST-MODIFIED:20240626T092704Z
LOCATION:Kunstmuseum Marburg
URL:https://www.uni-marburg.de/de/museum/aktuelles/termine/kunstpause-corn
 elius-jacobsz-drebbel-die-astronomie
END:VEVENT
BEGIN:VTIMEZONE
TZID:Europe/Berlin
X-LIC-LOCATION:Europe/Berlin
BEGIN:DAYLIGHT
DTSTART:20240331T030000
TZNAME:CEST
TZOFFSETFROM:+0100
TZOFFSETTO:+0200
END:DAYLIGHT
END:VTIMEZONE
END:VCALENDAR
