BEGIN:VCALENDAR
VERSION:2.0
PRODID:-//Plone.org//NONSGML plone.app.event//EN
X-WR-TIMEZONE:Europe/Berlin
BEGIN:VEVENT
SUMMARY:Kunstpause: Dora Hitz\, Amaryllis
DTSTART;TZID=Europe/Berlin:20241016T123000
DTEND;TZID=Europe/Berlin:20241016T130000
DTSTAMP:20260425T194116Z
UID:92cd8a34ec1a4ec2aad15b88637638d9@www.uni-marburg.de
CREATED:20241009T160215Z
DESCRIPTION:https://www.uni-marburg.de/de/museum/aktuelles/termine/kunstpa
 use-dora-hintz-amaryllis\n
LAST-MODIFIED:20241009T160414Z
LOCATION:Kunstmuseum Marburg\, Biegenstraße 11
URL:https://www.uni-marburg.de/de/museum/aktuelles/termine/kunstpause-dora
 -hintz-amaryllis
END:VEVENT
BEGIN:VTIMEZONE
TZID:Europe/Berlin
X-LIC-LOCATION:Europe/Berlin
BEGIN:DAYLIGHT
DTSTART:20240331T030000
TZNAME:CEST
TZOFFSETFROM:+0100
TZOFFSETTO:+0200
END:DAYLIGHT
END:VTIMEZONE
END:VCALENDAR
