BEGIN:VCALENDAR
VERSION:2.0
PRODID:-//Plone.org//NONSGML plone.app.event//EN
X-WR-TIMEZONE:Europe/Berlin
BEGIN:VEVENT
SUMMARY:Kunstpause: Günther Blau\, Schädel\, Brille\, Eierschale
DTSTART;TZID=Europe/Berlin:20240911T123000
DTEND;TZID=Europe/Berlin:20240911T130000
DTSTAMP:20260419T160904Z
UID:557073bb25f640a1ad2419c5a7c4f8d3@www.uni-marburg.de
CREATED:20210804T144142Z
DESCRIPTION:https://www.uni-marburg.de/de/museum/aktuelles/termine/kunstpa
 use-guenther-blau\n
LAST-MODIFIED:20240626T093049Z
LOCATION:Kunstmuseum Marburg
URL:https://www.uni-marburg.de/de/museum/aktuelles/termine/kunstpause-guen
 ther-blau
END:VEVENT
BEGIN:VTIMEZONE
TZID:Europe/Berlin
X-LIC-LOCATION:Europe/Berlin
BEGIN:DAYLIGHT
DTSTART:20240331T030000
TZNAME:CEST
TZOFFSETFROM:+0100
TZOFFSETTO:+0200
END:DAYLIGHT
END:VTIMEZONE
END:VCALENDAR
