BEGIN:VCALENDAR
VERSION:2.0
PRODID:-//Plone.org//NONSGML plone.app.event//EN
X-WR-TIMEZONE:Europe/Berlin
BEGIN:VEVENT
SUMMARY:Kunstpause: Julia Krause-Harder\, Die Antarktis\, 2019
DTSTART;TZID=Europe/Berlin:20241009T123000
DTEND;TZID=Europe/Berlin:20241009T130000
DTSTAMP:20260425T163618Z
UID:4909fca2135b484ca0e636267e5ce859@www.uni-marburg.de
CREATED:20241009T152921Z
DESCRIPTION:https://www.uni-marburg.de/de/museum/aktuelles/termine/kunstpa
 use-julia-krause-harder-die-antarktis-2019\n
LAST-MODIFIED:20241009T154558Z
LOCATION:Kunstmuseum Marburg\, Biegenstraße 11
URL:https://www.uni-marburg.de/de/museum/aktuelles/termine/kunstpause-juli
 a-krause-harder-die-antarktis-2019
END:VEVENT
BEGIN:VTIMEZONE
TZID:Europe/Berlin
X-LIC-LOCATION:Europe/Berlin
BEGIN:DAYLIGHT
DTSTART:20240331T030000
TZNAME:CEST
TZOFFSETFROM:+0100
TZOFFSETTO:+0200
END:DAYLIGHT
END:VTIMEZONE
END:VCALENDAR
