BEGIN:VCALENDAR
VERSION:2.0
PRODID:-//Plone.org//NONSGML plone.app.event//EN
X-WR-TIMEZONE:Europe/Berlin
BEGIN:VEVENT
SUMMARY:Kunstpause: Julia Krause-Harder\, Die Weltkarte
DTSTART;TZID=Europe/Berlin:20240710T123000
DTEND;TZID=Europe/Berlin:20240710T130000
DTSTAMP:20260421T172754Z
UID:938d6117f3f24e908be2b1ae910e6ed2@www.uni-marburg.de
CREATED:20210804T144142Z
DESCRIPTION:https://www.uni-marburg.de/de/museum/aktuelles/termine/kunstpa
 use-julia-krause-harder-die-weltkarte\n
LAST-MODIFIED:20240626T092603Z
LOCATION:Kunstmuseum Marburg
URL:https://www.uni-marburg.de/de/museum/aktuelles/termine/kunstpause-juli
 a-krause-harder-die-weltkarte
END:VEVENT
BEGIN:VTIMEZONE
TZID:Europe/Berlin
X-LIC-LOCATION:Europe/Berlin
BEGIN:DAYLIGHT
DTSTART:20240331T030000
TZNAME:CEST
TZOFFSETFROM:+0100
TZOFFSETTO:+0200
END:DAYLIGHT
END:VTIMEZONE
END:VCALENDAR
