BEGIN:VCALENDAR
VERSION:2.0
PRODID:-//Plone.org//NONSGML plone.app.event//EN
X-WR-TIMEZONE:Europe/Berlin
BEGIN:VEVENT
SUMMARY:Kunstpause: Karl Hofer\, Bildnis des Geheimrats Adolf Haeuser\, 19
 28
DTSTART;TZID=Europe/Berlin:20241127T123000
DTEND;TZID=Europe/Berlin:20241127T130000
DTSTAMP:20260421T233413Z
UID:431d2db8219a46b9a82031c9846d8a1b@www.uni-marburg.de
CREATED:20241009T162118Z
DESCRIPTION:https://www.uni-marburg.de/de/museum/aktuelles/termine/kunstpa
 use-karl-hofer-bildnis-des-geheimrats-adolf-haeuser-1928\n
LAST-MODIFIED:20241009T162130Z
LOCATION:Kunstmuseum Marburg\, Biegenstraße 11
URL:https://www.uni-marburg.de/de/museum/aktuelles/termine/kunstpause-karl
 -hofer-bildnis-des-geheimrats-adolf-haeuser-1928
END:VEVENT
BEGIN:VTIMEZONE
TZID:Europe/Berlin
X-LIC-LOCATION:Europe/Berlin
BEGIN:STANDARD
DTSTART:20241027T020000
TZNAME:CET
TZOFFSETFROM:+0200
TZOFFSETTO:+0100
END:STANDARD
END:VTIMEZONE
END:VCALENDAR
