BEGIN:VCALENDAR
VERSION:2.0
PRODID:-//Plone.org//NONSGML plone.app.event//EN
X-WR-TIMEZONE:Europe/Berlin
BEGIN:VEVENT
SUMMARY:Kunstpause: Paul Baum\, Bäume am Kanal\, 1903
DTSTART;TZID=Europe/Berlin:20250319T123000
DTEND;TZID=Europe/Berlin:20250319T130000
DTSTAMP:20260422T190307Z
UID:6321d7439d3e400997d922204b2f6f10@www.uni-marburg.de
CREATED:20241219T112442Z
DESCRIPTION:https://www.uni-marburg.de/de/museum/aktuelles/termine/kunstpa
 use-paul-baum-baeume-am-kanal-1903\n
LAST-MODIFIED:20241219T112449Z
LOCATION:Kunstmuseum Marburg\, Biegenstraße 11
URL:https://www.uni-marburg.de/de/museum/aktuelles/termine/kunstpause-paul
 -baum-baeume-am-kanal-1903
END:VEVENT
BEGIN:VTIMEZONE
TZID:Europe/Berlin
X-LIC-LOCATION:Europe/Berlin
BEGIN:STANDARD
DTSTART:20241027T020000
TZNAME:CET
TZOFFSETFROM:+0200
TZOFFSETTO:+0100
END:STANDARD
END:VTIMEZONE
END:VCALENDAR
