BEGIN:VCALENDAR
VERSION:2.0
PRODID:-//Plone.org//NONSGML plone.app.event//EN
X-WR-TIMEZONE:Europe/Berlin
BEGIN:VEVENT
SUMMARY:Kunstpause: Wilhelm Imkamp\, Idee der Stadt\, 1945
DTSTART;TZID=Europe/Berlin:20250305T123000
DTEND;TZID=Europe/Berlin:20250305T130000
DTSTAMP:20260422T181904Z
UID:40f31a861f524d35ab8b71578568d9b8@www.uni-marburg.de
CREATED:20241219T111950Z
DESCRIPTION:https://www.uni-marburg.de/de/museum/aktuelles/termine/kunstpa
 use-wilhelm-imkamp-idee-der-stadt-1945\n
LAST-MODIFIED:20241219T112001Z
LOCATION:Kunstmuseum Marburg\, Biegenstraße 11
URL:https://www.uni-marburg.de/de/museum/aktuelles/termine/kunstpause-wilh
 elm-imkamp-idee-der-stadt-1945
END:VEVENT
BEGIN:VTIMEZONE
TZID:Europe/Berlin
X-LIC-LOCATION:Europe/Berlin
BEGIN:STANDARD
DTSTART:20241027T020000
TZNAME:CET
TZOFFSETFROM:+0200
TZOFFSETTO:+0100
END:STANDARD
END:VTIMEZONE
END:VCALENDAR
