BEGIN:VCALENDAR
VERSION:2.0
PRODID:-//Plone.org//NONSGML plone.app.event//EN
X-WR-TIMEZONE:Europe/Berlin
BEGIN:VEVENT
SUMMARY:Musikalische Kunstpause
DTSTART;TZID=Europe/Berlin:20250312T123000
DTEND;TZID=Europe/Berlin:20250312T130000
DTSTAMP:20260422T023956Z
UID:97a33e1ba281431ea915c8c9b3497840@www.uni-marburg.de
CREATED:20241219T112311Z
DESCRIPTION:https://www.uni-marburg.de/de/museum/aktuelles/termine/musikal
 ische-kunstpause\n
LAST-MODIFIED:20241219T112317Z
LOCATION:Kunstmuseum Marburg\, Biegenstraße 11
URL:https://www.uni-marburg.de/de/museum/aktuelles/termine/musikalische-ku
 nstpause
END:VEVENT
BEGIN:VTIMEZONE
TZID:Europe/Berlin
X-LIC-LOCATION:Europe/Berlin
BEGIN:STANDARD
DTSTART:20241027T020000
TZNAME:CET
TZOFFSETFROM:+0200
TZOFFSETTO:+0100
END:STANDARD
END:VTIMEZONE
END:VCALENDAR
