BEGIN:VCALENDAR
VERSION:2.0
PRODID:-//Plone.org//NONSGML plone.app.event//EN
X-WR-TIMEZONE:Europe/Berlin
BEGIN:VEVENT
SUMMARY:Nacht der Kunst 2024
DTSTART;TZID=Europe/Berlin:20240621T180000
DTEND;TZID=Europe/Berlin:20240621T230000
DTSTAMP:20260423T224817Z
UID:a1d3819763b04800945e443a00a13671@www.uni-marburg.de
CREATED:20230510T073306Z
DESCRIPTION:https://www.uni-marburg.de/de/museum/aktuelles/termine/nacht-d
 er-kunst-2023\n
LAST-MODIFIED:20240619T065744Z
LOCATION:Kunstmuseum Marburg
URL:https://www.uni-marburg.de/de/museum/aktuelles/termine/nacht-der-kunst
 -2023
END:VEVENT
BEGIN:VTIMEZONE
TZID:Europe/Berlin
X-LIC-LOCATION:Europe/Berlin
BEGIN:DAYLIGHT
DTSTART:20240331T030000
TZNAME:CEST
TZOFFSETFROM:+0100
TZOFFSETTO:+0200
END:DAYLIGHT
END:VTIMEZONE
END:VCALENDAR
