BEGIN:VCALENDAR
VERSION:2.0
PRODID:-//Plone.org//NONSGML plone.app.event//EN
X-WR-TIMEZONE:Europe/Berlin
BEGIN:VEVENT
SUMMARY:3. Oktober: Fest für Einheit und Vielfalt
DTSTART;VALUE=DATE:20241003
DTEND;VALUE=DATE:20241004
DTSTAMP:20260425T055813Z
UID:31153ec2d8d9447ea167d377c9b653a7@www.uni-marburg.de
CREATED:20240626T095316Z
DESCRIPTION:https://www.uni-marburg.de/de/museum/aktuelles/termine/tag-kul
 turelle-vielfalt\n
LAST-MODIFIED:20240626T095731Z
LOCATION:Kunstmuseum Marburg
URL:https://www.uni-marburg.de/de/museum/aktuelles/termine/tag-kulturelle-
 vielfalt
END:VEVENT
END:VCALENDAR
