BEGIN:VCALENDAR
VERSION:2.0
PRODID:-//Plone.org//NONSGML plone.app.event//EN
X-WR-TIMEZONE:Europe/Berlin
BEGIN:VEVENT
SUMMARY:Themenführung: Abenteuer Moderne Kunst
DTSTART;TZID=Europe/Berlin:20250119T150000
DTEND;TZID=Europe/Berlin:20250119T160000
DTSTAMP:20260420T141441Z
UID:fe28f764709b4005a3aa03f7e63fb91e@www.uni-marburg.de
CREATED:20241219T112845Z
DESCRIPTION:https://www.uni-marburg.de/de/museum/aktuelles/termine/themenf
 uehrung-abenteuer-moderne-kunst-1\n
LAST-MODIFIED:20241219T112853Z
LOCATION:Kunstmuseum Marburg\, Biegenstraße 11
URL:https://www.uni-marburg.de/de/museum/aktuelles/termine/themenfuehrung-
 abenteuer-moderne-kunst-1
END:VEVENT
BEGIN:VTIMEZONE
TZID:Europe/Berlin
X-LIC-LOCATION:Europe/Berlin
BEGIN:STANDARD
DTSTART:20241027T020000
TZNAME:CET
TZOFFSETFROM:+0200
TZOFFSETTO:+0100
END:STANDARD
END:VTIMEZONE
END:VCALENDAR
