BEGIN:VCALENDAR
VERSION:2.0
PRODID:-//Plone.org//NONSGML plone.app.event//EN
X-WR-TIMEZONE:Europe/Berlin
BEGIN:VEVENT
SUMMARY:Themenführung: Die Willingshäuser Künstlerkolonie
DTSTART;TZID=Europe/Berlin:20250223T150000
DTEND;TZID=Europe/Berlin:20250223T160000
DTSTAMP:20260424T083902Z
UID:4f7ea418f2d8432998ab8dc018f308d0@www.uni-marburg.de
CREATED:20241219T114351Z
DESCRIPTION:https://www.uni-marburg.de/de/museum/aktuelles/termine/themenf
 uehrung-die-willingshaeuser-kuenstlerkolonie-2\n
LAST-MODIFIED:20241219T114357Z
LOCATION:Kunstmuseum Marburg\, Biegenstraße 11
URL:https://www.uni-marburg.de/de/museum/aktuelles/termine/themenfuehrung-
 die-willingshaeuser-kuenstlerkolonie-2
END:VEVENT
BEGIN:VTIMEZONE
TZID:Europe/Berlin
X-LIC-LOCATION:Europe/Berlin
BEGIN:STANDARD
DTSTART:20241027T020000
TZNAME:CET
TZOFFSETFROM:+0200
TZOFFSETTO:+0100
END:STANDARD
END:VTIMEZONE
END:VCALENDAR
