BEGIN:VCALENDAR
VERSION:2.0
PRODID:-//Plone.org//NONSGML plone.app.event//EN
X-WR-TIMEZONE:Europe/Berlin
BEGIN:VEVENT
SUMMARY:Themenführung: Julia Krause-Harder
DTSTART;TZID=Europe/Berlin:20240714T150000
DTEND;TZID=Europe/Berlin:20240714T160000
DTSTAMP:20260424T204808Z
UID:5931b6929c7848339aa44e02e42cec11@www.uni-marburg.de
CREATED:20230922T130817Z
DESCRIPTION:https://www.uni-marburg.de/de/museum/aktuelles/termine/themenf
 uehrung-julia-krause-harder-die-weltkarte\nDie Weltkarte
LAST-MODIFIED:20240626T093652Z
LOCATION:Kunstmuseum Marburg
URL:https://www.uni-marburg.de/de/museum/aktuelles/termine/themenfuehrung-
 julia-krause-harder-die-weltkarte
END:VEVENT
BEGIN:VTIMEZONE
TZID:Europe/Berlin
X-LIC-LOCATION:Europe/Berlin
BEGIN:DAYLIGHT
DTSTART:20240331T030000
TZNAME:CEST
TZOFFSETFROM:+0100
TZOFFSETTO:+0200
END:DAYLIGHT
END:VTIMEZONE
END:VCALENDAR
