BEGIN:VCALENDAR
VERSION:2.0
PRODID:-//Plone.org//NONSGML plone.app.event//EN
X-WR-TIMEZONE:Europe/Berlin
BEGIN:VEVENT
SUMMARY:Themenführung: Sonderausstellung "Was ist Kunst?"
DTSTART;TZID=Europe/Berlin:20250706T150000
DTEND;TZID=Europe/Berlin:20250706T160000
DTSTAMP:20260424T090835Z
UID:e8be3b0e09144d8cb1c06039d0cf114c@www.uni-marburg.de
ATTENDEE;CN="Randi Grundke (KunstWerkStatt Marburg)";ROLE=REQ-PARTICIPANT:
 Randi Grundke (KunstWerkStatt Marburg)
CREATED:20250626T084411Z
DESCRIPTION:https://www.uni-marburg.de/de/museum/aktuelles/termine/themenf
 uehrung-sonderausstellung-was-ist-kunst\n
LAST-MODIFIED:20250626T084909Z
LOCATION:Kunstmuseum Marburg\, Biegenstraße 11
URL:https://www.uni-marburg.de/de/museum/aktuelles/termine/themenfuehrung-
 sonderausstellung-was-ist-kunst
END:VEVENT
BEGIN:VTIMEZONE
TZID:Europe/Berlin
X-LIC-LOCATION:Europe/Berlin
BEGIN:DAYLIGHT
DTSTART:20250330T030000
TZNAME:CEST
TZOFFSETFROM:+0100
TZOFFSETTO:+0200
END:DAYLIGHT
END:VTIMEZONE
END:VCALENDAR
