BEGIN:VCALENDAR
VERSION:2.0
PRODID:-//Plone.org//NONSGML plone.app.event//EN
X-WR-TIMEZONE:Europe/Berlin
BEGIN:VEVENT
SUMMARY:Themenführung: Vergleichen mit Methode
DTSTART;TZID=Europe/Berlin:20250202T140000
DTEND;TZID=Europe/Berlin:20250202T150000
DTSTAMP:20260424T123642Z
UID:8b46bafcf3f743dea191c14ad8ff67d8@www.uni-marburg.de
CREATED:20241219T113320Z
DESCRIPTION:https://www.uni-marburg.de/de/museum/aktuelles/termine/themenf
 uehrung-vergleichen-mit-methode\n
LAST-MODIFIED:20241219T113327Z
LOCATION:Kunstmuseum Marburg\, Biegenstraße 11
URL:https://www.uni-marburg.de/de/museum/aktuelles/termine/themenfuehrung-
 vergleichen-mit-methode
END:VEVENT
BEGIN:VTIMEZONE
TZID:Europe/Berlin
X-LIC-LOCATION:Europe/Berlin
BEGIN:STANDARD
DTSTART:20241027T020000
TZNAME:CET
TZOFFSETFROM:+0200
TZOFFSETTO:+0100
END:STANDARD
END:VTIMEZONE
END:VCALENDAR
