BEGIN:VCALENDAR
VERSION:2.0
PRODID:-//Plone.org//NONSGML plone.app.event//EN
X-WR-TIMEZONE:Europe/Berlin
BEGIN:VEVENT
SUMMARY:Türen auf zum Brunnenhof!
DTSTART;TZID=Europe/Berlin:20240526T110000
DTEND;TZID=Europe/Berlin:20240526T160000
DTSTAMP:20260424T040055Z
UID:00f448dbda2e481eac9dbd3feb4c78c4@www.uni-marburg.de
CREATED:20240326T154914Z
DESCRIPTION:https://www.uni-marburg.de/de/museum/aktuelles/termine/tueren-
 auf-zum-brunnenhof\nMuseumsfest für alle
LAST-MODIFIED:20240514T161859Z
LOCATION:Kunstmuseum Marburg\, Innenhof
URL:https://www.uni-marburg.de/de/museum/aktuelles/termine/tueren-auf-zum-
 brunnenhof
END:VEVENT
BEGIN:VTIMEZONE
TZID:Europe/Berlin
X-LIC-LOCATION:Europe/Berlin
BEGIN:DAYLIGHT
DTSTART:20240331T030000
TZNAME:CEST
TZOFFSETFROM:+0100
TZOFFSETTO:+0200
END:DAYLIGHT
END:VTIMEZONE
END:VCALENDAR
