BEGIN:VCALENDAR
VERSION:2.0
PRODID:-//Plone.org//NONSGML plone.app.event//EN
X-WR-TIMEZONE:Europe/Berlin
BEGIN:VEVENT
SUMMARY:Eröffnung: Julia Krause-Harder - Die Weltkarte
DTSTART;TZID=Europe/Berlin:20240516T180000
DTEND;TZID=Europe/Berlin:20240516T200000
DTSTAMP:20260423T163327Z
UID:b60a45e6a4f74ed3826fa978bc510f10@www.uni-marburg.de
CREATED:20240326T155606Z
DESCRIPTION:https://www.uni-marburg.de/de/museum/aktuelles/termine/verniss
 age-julia-krause-harder-weltkarte\n
LAST-MODIFIED:20240502T094808Z
LOCATION:Kunstmuseum Marburg
URL:https://www.uni-marburg.de/de/museum/aktuelles/termine/vernissage-juli
 a-krause-harder-weltkarte
END:VEVENT
BEGIN:VTIMEZONE
TZID:Europe/Berlin
X-LIC-LOCATION:Europe/Berlin
BEGIN:DAYLIGHT
DTSTART:20240331T030000
TZNAME:CEST
TZOFFSETFROM:+0100
TZOFFSETTO:+0200
END:DAYLIGHT
END:VTIMEZONE
END:VCALENDAR
