BEGIN:VCALENDAR
VERSION:2.0
PRODID:-//Plone.org//NONSGML plone.app.event//EN
X-WR-TIMEZONE:Europe/Berlin
BEGIN:VEVENT
SUMMARY:Tag der kulturellen Vielfalt: Workshop
DTSTART;TZID=Europe/Berlin:20241003T120000
DTEND;TZID=Europe/Berlin:20241003T150000
DTSTAMP:20260422T045939Z
UID:c1a20162bef44d1787bf851a795c60d8@www.uni-marburg.de
CREATED:20200923T085313Z
DESCRIPTION:https://www.uni-marburg.de/de/museum/aktuelles/termine/worksho
 p-druckwerkstatt\nTypographie ODER DIE WELT DER BUCHSTABEN UND SCHRIFTZEIC
 HEN AUS ALLER WELT
LAST-MODIFIED:20240626T092210Z
LOCATION:Atelierraum\, Kunstmuseum
URL:https://www.uni-marburg.de/de/museum/aktuelles/termine/workshop-druckw
 erkstatt
END:VEVENT
BEGIN:VTIMEZONE
TZID:Europe/Berlin
X-LIC-LOCATION:Europe/Berlin
BEGIN:DAYLIGHT
DTSTART:20240331T030000
TZNAME:CEST
TZOFFSETFROM:+0100
TZOFFSETTO:+0200
END:DAYLIGHT
END:VTIMEZONE
END:VCALENDAR
