BEGIN:VCALENDAR
VERSION:2.0
PRODID:-//Plone.org//NONSGML plone.app.event//EN
X-WR-TIMEZONE:Europe/Berlin
BEGIN:VEVENT
SUMMARY:Workshop: EN PLEIN AIR!
DTSTART;TZID=Europe/Berlin:20240714T111500
DTEND;TZID=Europe/Berlin:20240714T141500
DTSTAMP:20260423T005141Z
UID:90767ba28c914ae9a9034157969282d3@www.uni-marburg.de
CREATED:20240626T091134Z
DESCRIPTION:https://www.uni-marburg.de/de/museum/aktuelles/termine/worksho
 p-en-plein-air\n
LAST-MODIFIED:20240626T091156Z
LOCATION:Kunstmuseum\, Atelierraum\, Alter Botanischer Garten
URL:https://www.uni-marburg.de/de/museum/aktuelles/termine/workshop-en-ple
 in-air
END:VEVENT
BEGIN:VTIMEZONE
TZID:Europe/Berlin
X-LIC-LOCATION:Europe/Berlin
BEGIN:DAYLIGHT
DTSTART:20240331T030000
TZNAME:CEST
TZOFFSETFROM:+0100
TZOFFSETTO:+0200
END:DAYLIGHT
END:VTIMEZONE
END:VCALENDAR
