BEGIN:VCALENDAR
VERSION:2.0
PRODID:-//Plone.org//NONSGML plone.app.event//EN
X-WR-TIMEZONE:Europe/Berlin
BEGIN:VEVENT
SUMMARY:Workshop: VOM GLÜCK MIT DER NATUR ZU LEBEN
DTSTART;TZID=Europe/Berlin:20240922T140000
DTEND;TZID=Europe/Berlin:20240922T160000
DTSTAMP:20260422T045811Z
UID:9a528dc048ca4521b54c2e9c87b3d6ae@www.uni-marburg.de
CREATED:20200923T085313Z
DESCRIPTION:https://www.uni-marburg.de/de/museum/aktuelles/termine/worksho
 p-natur\n
LAST-MODIFIED:20240626T091751Z
LOCATION:Atelierraum\, Kunstmuseum
URL:https://www.uni-marburg.de/de/museum/aktuelles/termine/workshop-natur
END:VEVENT
BEGIN:VTIMEZONE
TZID:Europe/Berlin
X-LIC-LOCATION:Europe/Berlin
BEGIN:DAYLIGHT
DTSTART:20240331T030000
TZNAME:CEST
TZOFFSETFROM:+0100
TZOFFSETTO:+0200
END:DAYLIGHT
END:VTIMEZONE
END:VCALENDAR
