BEGIN:VCALENDAR
VERSION:2.0
PRODID:-//Plone.org//NONSGML plone.app.event//EN
X-WR-TIMEZONE:Europe/Berlin
BEGIN:VEVENT
SUMMARY:Workshop: AUF REISEN MIT DER DRUCKWERKSTATT
DTSTART;TZID=Europe/Berlin:20240825T120000
DTEND;TZID=Europe/Berlin:20240825T160000
DTSTAMP:20260422T155153Z
UID:1bcf2da7f07a4a9b9f28d73f2feab07b@www.uni-marburg.de
CREATED:20200923T085313Z
DESCRIPTION:https://www.uni-marburg.de/de/museum/aktuelles/termine/worksho
 p_druckwerkstatt\n
LAST-MODIFIED:20240626T091332Z
LOCATION:Atelierraum\, Kunstmuseum
URL:https://www.uni-marburg.de/de/museum/aktuelles/termine/workshop_druckw
 erkstatt
END:VEVENT
BEGIN:VTIMEZONE
TZID:Europe/Berlin
X-LIC-LOCATION:Europe/Berlin
BEGIN:DAYLIGHT
DTSTART:20240331T030000
TZNAME:CEST
TZOFFSETFROM:+0100
TZOFFSETTO:+0200
END:DAYLIGHT
END:VTIMEZONE
END:VCALENDAR
