BEGIN:VCALENDAR
VERSION:2.0
PRODID:-//Plone.org//NONSGML plone.app.event//EN
X-WR-TIMEZONE:Europe/Berlin
BEGIN:VEVENT
SUMMARY:Workshop: PUNKT\, PUNKT\, KOMMA\, STRICH …
DTSTART;TZID=Europe/Berlin:20240922T120000
DTEND;TZID=Europe/Berlin:20240922T150000
DTSTAMP:20260422T095845Z
UID:1f71f287cee249698219eb2fb9cc458c@www.uni-marburg.de
CREATED:20200923T085313Z
DESCRIPTION:https://www.uni-marburg.de/de/museum/aktuelles/termine/worksho
 p_portraet\n
LAST-MODIFIED:20240626T091505Z
LOCATION:Atelierraum\, Kunstmuseum
URL:https://www.uni-marburg.de/de/museum/aktuelles/termine/workshop_portra
 et
END:VEVENT
BEGIN:VTIMEZONE
TZID:Europe/Berlin
X-LIC-LOCATION:Europe/Berlin
BEGIN:DAYLIGHT
DTSTART:20240331T030000
TZNAME:CEST
TZOFFSETFROM:+0100
TZOFFSETTO:+0200
END:DAYLIGHT
END:VTIMEZONE
END:VCALENDAR
