BEGIN:VCALENDAR
VERSION:2.0
PRODID:-//Plone.org//NONSGML plone.app.event//EN
X-WR-TIMEZONE:Europe/Berlin
BEGIN:VEVENT
SUMMARY:Abendvortrag: "Gender matters – aber wie? Radikalisierung und Te
 rrorismus aus geschlechtsspezifischer Perspektive"\, Eva Herschinger
DTSTART;TZID=Europe/Berlin:20240423T160000
DTEND;TZID=Europe/Berlin:20240423T180000
DTSTAMP:20260425T145022Z
UID:1c799d195e9045798249fe40d0a8832e@www.uni-marburg.de
CREATED:20240415T094834Z
DESCRIPTION:https://www.uni-marburg.de/de/sfb138/aktuelles/termine/abendvo
 rtrag-gender-matters-aber-wie-radikalisierung-und-terrorismus-aus-geschlec
 htsspezifischer-perspektive-eva-herschinger\n
LAST-MODIFIED:20240415T095325Z
LOCATION:Vortragssaal\, Herder-Institut\, Gisonenweg 5-7\, 35037 Marburg
URL:https://www.uni-marburg.de/de/sfb138/aktuelles/termine/abendvortrag-ge
 nder-matters-aber-wie-radikalisierung-und-terrorismus-aus-geschlechtsspezi
 fischer-perspektive-eva-herschinger
END:VEVENT
BEGIN:VTIMEZONE
TZID:Europe/Berlin
X-LIC-LOCATION:Europe/Berlin
BEGIN:DAYLIGHT
DTSTART:20240331T030000
TZNAME:CEST
TZOFFSETFROM:+0100
TZOFFSETTO:+0200
END:DAYLIGHT
END:VTIMEZONE
END:VCALENDAR
