BEGIN:VCALENDAR
VERSION:2.0
PRODID:-//Plone.org//NONSGML plone.app.event//EN
X-WR-TIMEZONE:Europe/Berlin
BEGIN:VEVENT
SUMMARY:Abschlusstagung des Sonderforschungsbereichs "Dynamiken der Sicher
 heit"
DTSTART;VALUE=DATE:20250703
DTEND;VALUE=DATE:20250706
DTSTAMP:20260423T172157Z
UID:c015a0d7f60c4b3eb0538a713d77c892@www.uni-marburg.de
CREATED:20250625T070742Z
DESCRIPTION:https://www.uni-marburg.de/de/sfb138/aktuelles/termine/abschlu
 sstagung-des-sonderforschungsbereichs-dynamiken-der-sicherheit\n
LAST-MODIFIED:20250701T114520Z
LOCATION:Vortragssaal\, Herder Institut\, Gisonenweg 5-7\, 35037 Marburg
URL:https://www.uni-marburg.de/de/sfb138/aktuelles/termine/abschlusstagung
 -des-sonderforschungsbereichs-dynamiken-der-sicherheit
END:VEVENT
END:VCALENDAR
