BEGIN:VCALENDAR
VERSION:2.0
PRODID:-//Plone.org//NONSGML plone.app.event//EN
X-WR-TIMEZONE:Europe/Berlin
BEGIN:VEVENT
SUMMARY:Buchvorstellung "Nahua-Stimmen aus dem kolonialen Zentralmexiko 
 – für das Überleben ihrer politisch-gesellschaftlichen Überzeugungen"
  von Richard Herzog
DTSTART;TZID=Europe/Berlin:20231130T180000
DTEND;TZID=Europe/Berlin:20231130T190000
DTSTAMP:20260422T165745Z
UID:0e63592fd5c74e3cb746e6fe7ea55523@www.uni-marburg.de
ATTENDEE;CN="Autor: Richard Herzog";ROLE=REQ-PARTICIPANT:Autor: Richard He
 rzog
ATTENDEE;CN="Moderation: Christoph Kampmann";ROLE=REQ-PARTICIPANT:Moderati
 on: Christoph Kampmann
ATTENDEE;CN="Kommentare von Antje Gunsenheimer und  Klemens Kaps";ROLE=REQ
 -PARTICIPANT:Kommentare von Antje Gunsenheimer und  Klemens Kaps
CREATED:20231123T075904Z
DESCRIPTION:https://www.uni-marburg.de/de/sfb138/aktuelles/termine/booklau
 nch-herzog\nDer Sonderforschungsbereich "Dynamiken der Sicherheit" lädt z
 um virtuellen Launch von Richard Herzogs Buch "Nahua-Stimmen aus dem kolon
 ialen Zentralmexiko – für das Überleben ihrer politisch-gesellschaftli
 chen Überzeugungen" ein.
LAST-MODIFIED:20241213T134519Z
LOCATION:Online
URL:https://www.uni-marburg.de/de/sfb138/aktuelles/termine/booklaunch-herz
 og
END:VEVENT
BEGIN:VTIMEZONE
TZID:Europe/Berlin
X-LIC-LOCATION:Europe/Berlin
BEGIN:STANDARD
DTSTART:20231029T020000
TZNAME:CET
TZOFFSETFROM:+0200
TZOFFSETTO:+0100
END:STANDARD
END:VTIMEZONE
END:VCALENDAR
