BEGIN:VCALENDAR
VERSION:2.0
PRODID:-//Plone.org//NONSGML plone.app.event//EN
X-WR-TIMEZONE:Europe/Berlin
BEGIN:VEVENT
SUMMARY:Buchvorstellung "Befreiungskrieg - Nationsbildung und Gewalt in de
 r Ukraine"\, Anna Veronika Wendland
DTSTART;TZID=Europe/Berlin:20240702T180000
DTEND;TZID=Europe/Berlin:20240702T190000
DTSTAMP:20260426T062706Z
UID:030abe45cd5a4ec188e271609a1f0b4b@www.uni-marburg.de
ATTENDEE;CN="Autorin: Anna-Veronika Wendland";ROLE=REQ-PARTICIPANT:Autorin
 : Anna-Veronika Wendland
ATTENDEE;CN="Moderation: Heidi Hein-Kircher";ROLE=REQ-PARTICIPANT:Moderati
 on: Heidi Hein-Kircher
ATTENDEE;CN="Kommentare: Martin Rohde";ROLE=REQ-PARTICIPANT:Kommentare: Ma
 rtin Rohde
CREATED:20240613T112102Z
DESCRIPTION:https://www.uni-marburg.de/de/sfb138/aktuelles/termine/buchvor
 stellung-befreiungskrieg-nationsbildung-und-gewalt-in-der-ukraine-anna-ver
 onika-wendland\nDer Sonderforschungsbereich "Dynamiken der Sicherheit" lä
 dt zum virtuellen Book Launch von Anna-Veronika Wendlands Monografie "Befr
 eiungskrieg. Nationsbildung und Gewalt in der Ukraine" ein.
LAST-MODIFIED:20241212T105451Z
LOCATION:Online
URL:https://www.uni-marburg.de/de/sfb138/aktuelles/termine/buchvorstellung
 -befreiungskrieg-nationsbildung-und-gewalt-in-der-ukraine-anna-veronika-we
 ndland
END:VEVENT
BEGIN:VTIMEZONE
TZID:Europe/Berlin
X-LIC-LOCATION:Europe/Berlin
BEGIN:DAYLIGHT
DTSTART:20240331T030000
TZNAME:CEST
TZOFFSETFROM:+0100
TZOFFSETTO:+0200
END:DAYLIGHT
END:VTIMEZONE
END:VCALENDAR
