BEGIN:VCALENDAR
VERSION:2.0
PRODID:-//Plone.org//NONSGML plone.app.event//EN
X-WR-TIMEZONE:Europe/Berlin
BEGIN:VEVENT
SUMMARY:Buchvorstellung "Canada and Eastern Europe\, 1945-1991" von Andrea
  Chandler
DTSTART;TZID=Europe/Berlin:20250325T180000
DTEND;TZID=Europe/Berlin:20250325T190000
DTSTAMP:20260422T171043Z
UID:abbf9a9305994e8eaa3769ea4c1b7fd3@www.uni-marburg.de
ATTENDEE;CN="Autorin: Andrea Chandler";ROLE=REQ-PARTICIPANT:Autorin: Andre
 a Chandler
ATTENDEE;CN="Moderation: Benjamin Brendel";ROLE=REQ-PARTICIPANT:Moderation
 : Benjamin Brendel
ATTENDEE;CN="Kommentare von Liliya Berezhnaja & Heidi Hein-Kircher";ROLE=R
 EQ-PARTICIPANT:Kommentare von Liliya Berezhnaja & Heidi Hein-Kircher
CREATED:20240620T165344Z
DESCRIPTION:https://www.uni-marburg.de/de/sfb138/aktuelles/termine/buchvor
 stellung-canada-and-eastern-europe\nDer Sonderforschungsbereich "Dynamiken
  der Sicherheit" lädt zum virtuellen Book Launch von Andrea Chandlers Mon
 ografie "Canada and Eastern Europe\, 1995-1991. Meeting in the Middle" ein
 .
LAST-MODIFIED:20250219T105049Z
LOCATION:Online
URL:https://www.uni-marburg.de/de/sfb138/aktuelles/termine/buchvorstellung
 -canada-and-eastern-europe
END:VEVENT
BEGIN:VTIMEZONE
TZID:Europe/Berlin
X-LIC-LOCATION:Europe/Berlin
BEGIN:STANDARD
DTSTART:20241027T020000
TZNAME:CET
TZOFFSETFROM:+0200
TZOFFSETTO:+0100
END:STANDARD
END:VTIMEZONE
END:VCALENDAR
