BEGIN:VCALENDAR
VERSION:2.0
PRODID:-//Plone.org//NONSGML plone.app.event//EN
X-WR-TIMEZONE:Europe/Berlin
BEGIN:VEVENT
SUMMARY:Buchvorstellung "The Government of Emergency" von Stephen J. Colli
 er\, Andrew Lakoff
DTSTART;TZID=Europe/Berlin:20230523T180000
DTEND;TZID=Europe/Berlin:20230523T190000
DTSTAMP:20260423T063313Z
UID:64cebb16a8164e8abaa31bb9b282b9bb@www.uni-marburg.de
ATTENDEE;CN="Autoren: Stephen J. Collier und Andrew Lakoff";ROLE=REQ-PARTI
 CIPANT:Autoren: Stephen J. Collier und Andrew Lakoff
ATTENDEE;CN="Moderation: Heidi Hein-Kircher";ROLE=REQ-PARTICIPANT:Moderati
 on: Heidi Hein-Kircher
ATTENDEE;CN="Kommentare von Sven Opitz und Anna-Veronika Wendland";ROLE=RE
 Q-PARTICIPANT:Kommentare von Sven Opitz und Anna-Veronika Wendland
CREATED:20240620T165344Z
DESCRIPTION:https://www.uni-marburg.de/de/sfb138/aktuelles/termine/buchvor
 stellung-government-of-emergency\nDer Sonderforschungsbereich "Dynamiken d
 er Sicherheit" lädt zum virtuellen Book Launch von Stephen J. Collier und
  Andrew Lakoffs Monografie "The Government of Emergency.Vital Systems\, Ex
 pertise\, and the Politics of Security" ein.
LAST-MODIFIED:20250227T112311Z
LOCATION:Online
URL:https://www.uni-marburg.de/de/sfb138/aktuelles/termine/buchvorstellung
 -government-of-emergency
END:VEVENT
BEGIN:VTIMEZONE
TZID:Europe/Berlin
X-LIC-LOCATION:Europe/Berlin
BEGIN:DAYLIGHT
DTSTART:20230326T030000
TZNAME:CEST
TZOFFSETFROM:+0100
TZOFFSETTO:+0200
END:DAYLIGHT
END:VTIMEZONE
END:VCALENDAR
