BEGIN:VCALENDAR
VERSION:2.0
PRODID:-//Plone.org//NONSGML plone.app.event//EN
X-WR-TIMEZONE:Europe/Berlin
BEGIN:VEVENT
SUMMARY:Buchvorstellung "Militärische Missionen - Rechtfertigungen bewaff
 neter Auslandseinsätze in Geschichte und Gegenwart"von Hubert Zimmermann
DTSTART;TZID=Europe/Berlin:20240618T180000
DTEND;TZID=Europe/Berlin:20240618T190000
DTSTAMP:20260423T021555Z
UID:4bb43e627e5c4c858057d11ad64ae778@www.uni-marburg.de
ATTENDEE;CN="Autor: Hubert Zimmermann";ROLE=REQ-PARTICIPANT:Autor: Hubert 
 Zimmermann
ATTENDEE;CN="Moderation: Philipp Lottholz";ROLE=REQ-PARTICIPANT:Moderation
 : Philipp Lottholz
ATTENDEE;CN="Kommentare von Thorsten Bonacker und Frank Stengel ";ROLE=REQ
 -PARTICIPANT:Kommentare von Thorsten Bonacker und Frank Stengel 
CREATED:20240604T104531Z
DESCRIPTION:https://www.uni-marburg.de/de/sfb138/aktuelles/termine/buchvor
 stellung-militaerische-missionen\nDer Sonderforschungsbereich "Dynamiken d
 er Sicherheit" lädt zum virtuellen Book Launch von Hubert Zimmermanns Mon
 ografie "Militärische Missionen. Rechtfertigungen bewaffneter Auslandsein
 sätze von ihren Ursprüngen bis zur Gegenwart" ein.
LAST-MODIFIED:20241213T135955Z
LOCATION:Online
URL:https://www.uni-marburg.de/de/sfb138/aktuelles/termine/buchvorstellung
 -militaerische-missionen
END:VEVENT
BEGIN:VTIMEZONE
TZID:Europe/Berlin
X-LIC-LOCATION:Europe/Berlin
BEGIN:DAYLIGHT
DTSTART:20240331T030000
TZNAME:CEST
TZOFFSETFROM:+0100
TZOFFSETTO:+0200
END:DAYLIGHT
END:VTIMEZONE
END:VCALENDAR
