BEGIN:VCALENDAR
VERSION:2.0
PRODID:-//Plone.org//NONSGML plone.app.event//EN
X-WR-TIMEZONE:Europe/Berlin
BEGIN:VEVENT
SUMMARY:Buchvorstellung "Monitoring Pandemic Preparedness" von Carolin Mez
 es
DTSTART;TZID=Europe/Berlin:20241126T180000
DTEND;TZID=Europe/Berlin:20241126T190000
DTSTAMP:20260423T231725Z
UID:43b5ce4b3d714d4f9d52de3e18ebac56@www.uni-marburg.de
ATTENDEE;CN="Autorin: Carolin Mezes (Universität Bielefeld)";ROLE=REQ-PAR
 TICIPANT:Autorin: Carolin Mezes (Universität Bielefeld)
ATTENDEE;CN="Moderation: Il Tschung-Lim (Justus-Liebig-Universität Gieße
 n)";ROLE=REQ-PARTICIPANT:Moderation: Il Tschung-Lim (Justus-Liebig-Univers
 ität Gießen)
ATTENDEE;CN="Kommentare von Kevin Hall (Norwegian University of Science an
 d Technology Trondheim) & Mara Linden (Goethe Universität Frankfurt am Ma
 in)";ROLE=REQ-PARTICIPANT:Kommentare von Kevin Hall (Norwegian University 
 of Science and Technology Trondheim) & Mara Linden (Goethe Universität Fr
 ankfurt am Main)
CREATED:20240620T165344Z
DESCRIPTION:https://www.uni-marburg.de/de/sfb138/aktuelles/termine/buchvor
 stellung-monitoring-pandemic-preparedness\nDer Sonderforschungsbereich "Dy
 namiken der Sicherheit" lädt zum virtuellen Book Launch von Carolin Mezes
  Monografie "Monitoring Pandemic Preparedness. Global Health's Security's 
 Politics of Accountability\, Development\, and Infrastructure" ein.
LAST-MODIFIED:20241112T091659Z
LOCATION:Online
URL:https://www.uni-marburg.de/de/sfb138/aktuelles/termine/buchvorstellung
 -monitoring-pandemic-preparedness
END:VEVENT
BEGIN:VTIMEZONE
TZID:Europe/Berlin
X-LIC-LOCATION:Europe/Berlin
BEGIN:STANDARD
DTSTART:20241027T020000
TZNAME:CET
TZOFFSETFROM:+0200
TZOFFSETTO:+0100
END:STANDARD
END:VTIMEZONE
END:VCALENDAR
