BEGIN:VCALENDAR
VERSION:2.0
PRODID:-//Plone.org//NONSGML plone.app.event//EN
X-WR-TIMEZONE:Europe/Berlin
BEGIN:VEVENT
SUMMARY:Buchvorstellung "Ottoman Passports - Security and Geographic Mobil
 ity\, 1876–1908" von İlkay Yılmaz
DTSTART;TZID=Europe/Berlin:20240130T180000
DTEND;TZID=Europe/Berlin:20240130T190000
DTSTAMP:20260424T190746Z
UID:7a0a11a6c1204c7a9d373ce020bf69e6@www.uni-marburg.de
ATTENDEE;CN="Autorin: İlkay Yılmaz";ROLE=REQ-PARTICIPANT:Autorin: İlkay
  Yılmaz
ATTENDEE;CN="Moderation: Kajetan Stobiecki";ROLE=REQ-PARTICIPANT:Moderatio
 n: Kajetan Stobiecki
ATTENDEE;CN="Kommentare von Heidi Hein-Kircher und Eckart Conze";ROLE=REQ-
 PARTICIPANT:Kommentare von Heidi Hein-Kircher und Eckart Conze
CREATED:20240114T104731Z
DESCRIPTION:https://www.uni-marburg.de/de/sfb138/aktuelles/termine/buchvor
 stellung-ottoman-passports-security-and-geographic-mobility-1876-1908-ilka
 y-yilmaz\nDer Sonderforschungsbereich "Dynamiken der Sicherheit" lädt zum
  virtuellen Launch von İlkay Yılmaz Buch "Ottoman Passports - Security a
 nd Geographic Mobility\, 1876–1908" ein.
LAST-MODIFIED:20241213T125513Z
LOCATION:Online
URL:https://www.uni-marburg.de/de/sfb138/aktuelles/termine/buchvorstellung
 -ottoman-passports-security-and-geographic-mobility-1876-1908-ilkay-yilmaz
END:VEVENT
BEGIN:VTIMEZONE
TZID:Europe/Berlin
X-LIC-LOCATION:Europe/Berlin
BEGIN:STANDARD
DTSTART:20231029T020000
TZNAME:CET
TZOFFSETFROM:+0200
TZOFFSETTO:+0100
END:STANDARD
END:VTIMEZONE
END:VCALENDAR
