BEGIN:VCALENDAR
VERSION:2.0
PRODID:-//Plone.org//NONSGML plone.app.event//EN
X-WR-TIMEZONE:Europe/Berlin
BEGIN:VEVENT
SUMMARY:Book Launch "Stadtrevier. Polizei und Sicherheit im urbanen Raum" 
 von Martin Göllnitz und Sabine Mecking
DTSTART;TZID=Europe/Berlin:20240516T180000
DTEND;TZID=Europe/Berlin:20240516T190000
DTSTAMP:20260426T051925Z
UID:97c80b4a9dc64fe98a7143c10fca4488@www.uni-marburg.de
ATTENDEE;CN="Herausgeber:innen: Martin Göllnitz, Sabine Mecking";ROLE=REQ
 -PARTICIPANT:Herausgeber:innen: Martin Göllnitz, Sabine Mecking
ATTENDEE;CN="Moderation: Thomas Szymczyk";ROLE=REQ-PARTICIPANT:Moderation:
  Thomas Szymczyk
ATTENDEE;CN="Kommentare von Heidi Hein-Kircher und Christine Krüger";ROLE
 =REQ-PARTICIPANT:Kommentare von Heidi Hein-Kircher und Christine Krüger
CREATED:20240209T143228Z
DESCRIPTION:https://www.uni-marburg.de/de/sfb138/aktuelles/termine/buchvor
 stellung-polizei-und-sicherheit-akteure-repertoires-und-heuristiken-sabine
 -mecking-und-martin-goellnitz\nDer Sonderforschungsbereich "Dynamiken der 
 Sicherheit" lädt zum virtuellen Launch des von Martin Göllnitz und Sabin
 e Mecking herausgegebenen Themenhefts "Stadtrevier. Polizei und Sicherheit
  im urbanen Raum" ein.
LAST-MODIFIED:20241212T110551Z
LOCATION:Online
URL:https://www.uni-marburg.de/de/sfb138/aktuelles/termine/buchvorstellung
 -polizei-und-sicherheit-akteure-repertoires-und-heuristiken-sabine-mecking
 -und-martin-goellnitz
END:VEVENT
BEGIN:VTIMEZONE
TZID:Europe/Berlin
X-LIC-LOCATION:Europe/Berlin
BEGIN:DAYLIGHT
DTSTART:20240331T030000
TZNAME:CEST
TZOFFSETFROM:+0100
TZOFFSETTO:+0200
END:DAYLIGHT
END:VTIMEZONE
END:VCALENDAR
