BEGIN:VCALENDAR
VERSION:2.0
PRODID:-//Plone.org//NONSGML plone.app.event//EN
X-WR-TIMEZONE:Europe/Berlin
BEGIN:VEVENT
SUMMARY:Buchvorstellung "Russia\, China and the Revisionist Assault on the
  Western Liberal International Order" von Gerlinde Groitl
DTSTART;TZID=Europe/Berlin:20240528T183000
DTEND;TZID=Europe/Berlin:20240528T193000
DTSTAMP:20260425T002916Z
UID:4d57a7f23e944f9ba2e56bea8f2f5b90@www.uni-marburg.de
ATTENDEE;CN="Autorin: Gerlinde Groitl";ROLE=REQ-PARTICIPANT:Autorin: Gerli
 nde Groitl
ATTENDEE;CN="Moderation: Tim Salzer";ROLE=REQ-PARTICIPANT:Moderation: Tim 
 Salzer
ATTENDEE;CN="Kommentare von Hubert Zimmermann und Lisa-Marie Geltinger";RO
 LE=REQ-PARTICIPANT:Kommentare von Hubert Zimmermann und Lisa-Marie Gelting
 er
CREATED:20240521T113745Z
DESCRIPTION:https://www.uni-marburg.de/de/sfb138/aktuelles/termine/buchvor
 stellung-russia-china-and-the-revisionist-assault-on-the-western-liberal-i
 nternational-order-gerlinde-groitl-1\nDer Sonderforschungsbereich "Dynamik
 en der Sicherheit" lädt zum virtuellen Book Launch von Gerlinde Groitls M
 onografie "Russia\, China and the Revisionist Assault on the Western Liber
 al International Order" ein.
LAST-MODIFIED:20241212T110250Z
LOCATION:Online
URL:https://www.uni-marburg.de/de/sfb138/aktuelles/termine/buchvorstellung
 -russia-china-and-the-revisionist-assault-on-the-western-liberal-internati
 onal-order-gerlinde-groitl-1
END:VEVENT
BEGIN:VTIMEZONE
TZID:Europe/Berlin
X-LIC-LOCATION:Europe/Berlin
BEGIN:DAYLIGHT
DTSTART:20240331T030000
TZNAME:CEST
TZOFFSETFROM:+0100
TZOFFSETTO:+0200
END:DAYLIGHT
END:VTIMEZONE
END:VCALENDAR
