BEGIN:VCALENDAR
VERSION:2.0
PRODID:-//Plone.org//NONSGML plone.app.event//EN
X-WR-TIMEZONE:Europe/Berlin
BEGIN:VEVENT
SUMMARY:Einladung zu Fellowvorträgen
DTSTART;TZID=Europe/Berlin:20250526T170000
DTEND;TZID=Europe/Berlin:20250526T190000
DTSTAMP:20260423T063314Z
UID:7516ec37a6d445e28699690aa6d12644@www.uni-marburg.de
CREATED:20250718T123359Z
DESCRIPTION:https://www.uni-marburg.de/de/sfb138/aktuelles/termine/einladu
 ng-zu-fellowvortraegen\nDer Sonderforschungsbereich lädt zu den Fellow Ta
 lks 2025 ein. Aktuelle Gastwissenschaftler:innen stellen in diesem Vortrag
 sformat ihre aktuellen Forschungsvorhaben vor und diskutieren sie mit den 
 Zuhörer:innen.\n\nDie Vorträge finden auf Englisch statt.
LAST-MODIFIED:20250718T123443Z
LOCATION:Dekanats-Saal (+2/0140)\, Ketzerbach 63\, 35037 Marburg.
URL:https://www.uni-marburg.de/de/sfb138/aktuelles/termine/einladung-zu-fe
 llowvortraegen
END:VEVENT
BEGIN:VTIMEZONE
TZID:Europe/Berlin
X-LIC-LOCATION:Europe/Berlin
BEGIN:DAYLIGHT
DTSTART:20250330T030000
TZNAME:CEST
TZOFFSETFROM:+0100
TZOFFSETTO:+0200
END:DAYLIGHT
END:VTIMEZONE
END:VCALENDAR
