BEGIN:VCALENDAR
VERSION:2.0
PRODID:-//Plone.org//NONSGML plone.app.event//EN
X-WR-TIMEZONE:Europe/Berlin
BEGIN:VEVENT
SUMMARY:Vortrag von Gastwissenschaftler Mihai Surdu zum Thema "Genetic stu
 dies of Roma and the processes of racialization\, securitization and instr
 umentalization"
DTSTART;TZID=Europe/Berlin:20240207T164500
DTEND;TZID=Europe/Berlin:20240207T181500
DTSTAMP:20260423T230512Z
UID:d9f155b1840b481a9846ec64903412cf@www.uni-marburg.de
CREATED:20240209T142722Z
DESCRIPTION:https://www.uni-marburg.de/de/sfb138/aktuelles/termine/genetic
 -studies-of-roma-and-the-processes-of-racialization-securitization-and-ins
 trumentalization\n
LAST-MODIFIED:20240209T142849Z
LOCATION:Zeughaus\, Senckenbergstrasse 3\, Gießen\, Raum S3
URL:https://www.uni-marburg.de/de/sfb138/aktuelles/termine/genetic-studies
 -of-roma-and-the-processes-of-racialization-securitization-and-instrumenta
 lization
END:VEVENT
BEGIN:VTIMEZONE
TZID:Europe/Berlin
X-LIC-LOCATION:Europe/Berlin
BEGIN:STANDARD
DTSTART:20231029T020000
TZNAME:CET
TZOFFSETFROM:+0200
TZOFFSETTO:+0100
END:STANDARD
END:VTIMEZONE
END:VCALENDAR
