BEGIN:VCALENDAR
VERSION:2.0
PRODID:-//Plone.org//NONSGML plone.app.event//EN
X-WR-TIMEZONE:Europe/Berlin
BEGIN:VEVENT
SUMMARY:Internationale Konferenz "Ideas\, Concepts and Policies of Soverei
 gnty in the Age of the Cold War\, 1945-1990"
DTSTART;TZID=Europe/Berlin:20250327T130000
DTEND;TZID=Europe/Berlin:20250328T160000
DTSTAMP:20260426T002250Z
UID:2dd242a2ea324e77bf28e8e0f235e82d@www.uni-marburg.de
ATTENDEE;CN="Benjamin Brendel | Ioannis Brigkos | Juliane Clegg | Eckart C
 onze | Mauro Elli | Claude Ewert | Sebastian Gehrig | Rüdiger Graf | Simo
 n Graham | Péter Hevö | Victor Jaeschke | Chang Liu | Lukas Mengelkamp |
  Christian Methfessel | Volker Prott | Marcel Spannenberger | Sarah Wilder
 -Fehl";ROLE=REQ-PARTICIPANT:Benjamin Brendel | Ioannis Brigkos | Juliane C
 legg | Eckart Conze | Mauro Elli | Claude Ewert | Sebastian Gehrig | Rüdi
 ger Graf | Simon Graham | Péter Hevö | Victor Jaeschke | Chang Liu | Luk
 as Mengelkamp | Christian Methfessel | Volker Prott | Marcel Spannenberger
  | Sarah Wilder-Fehl
CREATED:20250227T115232Z
DESCRIPTION:https://www.uni-marburg.de/de/sfb138/aktuelles/termine/interna
 tionale-konferenz-ideas-concepts-and-policies-of-sovereignty-in-the-age-of
 -the-cold-war-1945-1990\nDas Teilprojekt C01 "Erweiterte Sicherheit - Die 
 Veränderung von Staatlichkeit nach dem Ende des Booms" am SFB 138 "Dynami
 ken der Sicherheit" lädt herzlich zur Teilnahme an der Internationalen Ko
 nferenz "Ideas\, Concepts and Policies of Sovereignty in the Age of the Co
 ld War\, 1945-1990" ein.
LAST-MODIFIED:20250227T142722Z
LOCATION:Philipps-Universität Marburg\, Pilgrimstein 12\, Raum 201 & 205
URL:https://www.uni-marburg.de/de/sfb138/aktuelles/termine/internationale-
 konferenz-ideas-concepts-and-policies-of-sovereignty-in-the-age-of-the-col
 d-war-1945-1990
END:VEVENT
BEGIN:VTIMEZONE
TZID:Europe/Berlin
X-LIC-LOCATION:Europe/Berlin
BEGIN:STANDARD
DTSTART:20241027T020000
TZNAME:CET
TZOFFSETFROM:+0200
TZOFFSETTO:+0100
END:STANDARD
END:VTIMEZONE
END:VCALENDAR
