BEGIN:VCALENDAR
VERSION:2.0
PRODID:-//Plone.org//NONSGML plone.app.event//EN
X-WR-TIMEZONE:Europe/Berlin
BEGIN:VEVENT
SUMMARY:Vortrag: Viral Governance - How unilateral US sanctions changed th
 e rules of financial capitalism\, Grégoire Mallard
DTSTART;TZID=Europe/Berlin:20240613T180000
DTEND;TZID=Europe/Berlin:20240613T200000
DTSTAMP:20260425T054758Z
UID:c82de4acb9fa49cbb08f5ece2c52ad7d@www.uni-marburg.de
CREATED:20240521T135726Z
DESCRIPTION:https://www.uni-marburg.de/de/sfb138/aktuelles/termine/lecture
 -viral-governance-how-unilateral-us-sanctions-changed-the-rules-of-financi
 al-capitalism-gregoire-mallard\n
LAST-MODIFIED:20240521T140116Z
LOCATION:Justus-Liebig-Universität Gießen\, Ludwigstr. 23\, Senatssaal\,
  Raum 151
URL:https://www.uni-marburg.de/de/sfb138/aktuelles/termine/lecture-viral-g
 overnance-how-unilateral-us-sanctions-changed-the-rules-of-financial-capit
 alism-gregoire-mallard
END:VEVENT
BEGIN:VTIMEZONE
TZID:Europe/Berlin
X-LIC-LOCATION:Europe/Berlin
BEGIN:DAYLIGHT
DTSTART:20240331T030000
TZNAME:CEST
TZOFFSETFROM:+0100
TZOFFSETTO:+0200
END:DAYLIGHT
END:VTIMEZONE
END:VCALENDAR
