BEGIN:VCALENDAR
VERSION:2.0
PRODID:-//Plone.org//NONSGML plone.app.event//EN
X-WR-TIMEZONE:Europe/Berlin
BEGIN:VEVENT
SUMMARY:Peace\, Conflict and Security in times of existential crises. Crit
 ical\, interdisciplinary\, and public engagements.
DTSTART;VALUE=DATE:20240321
DTEND;VALUE=DATE:20240323
DTSTAMP:20260423T233720Z
UID:232dde1c357a4201882541c93bda08ab@www.uni-marburg.de
CREATED:20230905T083754Z
DESCRIPTION:https://www.uni-marburg.de/de/sfb138/aktuelles/termine/peace-c
 onflict-and-security-in-times-of-existential-crises-critical-interdiscipli
 nary-and-public-engangements\nInternational Conference co-organized by the
  Collaborative Research Center Transregional 138 “Dynamics of Security
 ” and the Anthropology of Peace\, Conflict\, and Security (APeCS) networ
 k of the European Association of Social Anthropologists (EASA)
LAST-MODIFIED:20240320T143922Z
LOCATION:Philipps-Universität Marburg
URL:https://www.uni-marburg.de/de/sfb138/aktuelles/termine/peace-conflict-
 and-security-in-times-of-existential-crises-critical-interdisciplinary-and
 -public-engangements
END:VEVENT
END:VCALENDAR
