BEGIN:VCALENDAR
VERSION:2.0
PRODID:-//Plone.org//NONSGML plone.app.event//EN
X-WR-TIMEZONE:Europe/Berlin
BEGIN:VEVENT
SUMMARY:Roundtable "Cooperative Research: A Conversation across Discipline
 s\, Histories and Cultures"
DTSTART;TZID=Europe/Berlin:20250508T180000
DTEND;TZID=Europe/Berlin:20250508T193000
DTSTAMP:20260423T230652Z
UID:d1b48785843748558cdaf683c8219bbd@www.uni-marburg.de
ATTENDEE;CN="Speakers: Dr. Karolina Kluczewska (Academy of International A
 ffairs North Rhine-Westfalia) | Prof. Sara Koopman (Kent State University,
  US) | Philipp Horstmeier (CRC “Dynamics of Security”) | Dr. Maurice S
 tierl (University of Osnabrück, Germany) ";ROLE=REQ-PARTICIPANT:Speakers:
  Dr. Karolina Kluczewska (Academy of International Affairs North Rhine-Wes
 tfalia) | Prof. Sara Koopman (Kent State University, US) | Philipp Horstme
 ier (CRC “Dynamics of Security”) | Dr. Maurice Stierl (University of O
 snabrück, Germany) 
ATTENDEE;CN=;ROLE=REQ-PARTICIPANT:
ATTENDEE;CN="Moderation: Dr. Il-Tschung Lim, Collaborative Research Centre
  “Dynamics of Security” ";ROLE=REQ-PARTICIPANT:Moderation: Dr. Il-Tsch
 ung Lim, Collaborative Research Centre “Dynamics of Security” 
CREATED:20250425T093201Z
DESCRIPTION:https://www.uni-marburg.de/de/sfb138/aktuelles/termine/roundta
 ble-cooperative-research-a-conversation-across-disciplines-histories-and-c
 ultures\nThis roundtable is intended to bring together different perspecti
 ves on collaborative and participatory forms of research and science.
LAST-MODIFIED:20250425T110337Z
LOCATION:Creative Space\, Bahnhofstr. 7\, 35037 Marburg (1. OG/1st floor)
URL:https://www.uni-marburg.de/de/sfb138/aktuelles/termine/roundtable-coop
 erative-research-a-conversation-across-disciplines-histories-and-cultures
END:VEVENT
BEGIN:VTIMEZONE
TZID:Europe/Berlin
X-LIC-LOCATION:Europe/Berlin
BEGIN:DAYLIGHT
DTSTART:20250330T030000
TZNAME:CEST
TZOFFSETFROM:+0100
TZOFFSETTO:+0200
END:DAYLIGHT
END:VTIMEZONE
END:VCALENDAR
