BEGIN:VCALENDAR
VERSION:2.0
PRODID:-//Plone.org//NONSGML plone.app.event//EN
X-WR-TIMEZONE:Europe/Berlin
BEGIN:VEVENT
SUMMARY:Tagung "Gebändigte Unsicherheit. Mediale Inszenierung von Polizei
  und Verbrechen"
DTSTART;TZID=Europe/Berlin:20241107T133000
DTEND;TZID=Europe/Berlin:20241109T130000
DTSTAMP:20260425T020135Z
UID:1001a6ce5adb446391d0ab1894e09511@www.uni-marburg.de
ATTENDEE;CN="Fred Breinersdorfer | Manuel Bolz | Christoph Classen | Simon
  Egbert | Mina Godarzani-Bakhtiari |  Lena Karber | Christoph Lorke | Flor
 entine Pramann | Peter Römer | Marcel Schmeer | Frederice Charlotte Stasi
 k | René Tuma | Patrick Wagner | Klaus Weinhauer | Nils Zimmer ";ROLE=REQ
 -PARTICIPANT:Fred Breinersdorfer | Manuel Bolz | Christoph Classen | Simon
  Egbert | Mina Godarzani-Bakhtiari |  Lena Karber | Christoph Lorke | Flor
 entine Pramann | Peter Römer | Marcel Schmeer | Frederice Charlotte Stasi
 k | René Tuma | Patrick Wagner | Klaus Weinhauer | Nils Zimmer 
CREATED:20241024T125449Z
DESCRIPTION:https://www.uni-marburg.de/de/sfb138/aktuelles/termine/tagung-
 gebaendigte-unsicherheit-mediale-inszenierung-von-polizei-und-verbrechen\n
LAST-MODIFIED:20241024T141636Z
LOCATION:Philipps-Universität Marburg\, Deutscher Sprachatlas\, Pilgrimst
 ein 16
URL:https://www.uni-marburg.de/de/sfb138/aktuelles/termine/tagung-gebaendi
 gte-unsicherheit-mediale-inszenierung-von-polizei-und-verbrechen
END:VEVENT
BEGIN:VTIMEZONE
TZID:Europe/Berlin
X-LIC-LOCATION:Europe/Berlin
BEGIN:STANDARD
DTSTART:20241027T020000
TZNAME:CET
TZOFFSETFROM:+0200
TZOFFSETTO:+0100
END:STANDARD
END:VTIMEZONE
END:VCALENDAR
