BEGIN:VCALENDAR
VERSION:2.0
PRODID:-//Plone.org//NONSGML plone.app.event//EN
X-WR-TIMEZONE:Europe/Berlin
BEGIN:VEVENT
SUMMARY:“Die (Un-)Wahrheit der Polarisierung: Überlegungen zur gesellsc
 haftlichen Selbstbeobachtung”  - Ein Vortrag von Nils C. Kumkar
DTSTART;TZID=Europe/Berlin:20251127T143000
DTEND;TZID=Europe/Berlin:20251127T160000
DTSTAMP:20260424T142417Z
UID:293ac49588dd471f8d38798f5c42877f@www.uni-marburg.de
ATTENDEE;CN="Referent: Nils C. Kumkar (Universität Bamberg/Universität B
 remen)";ROLE=REQ-PARTICIPANT:Referent: Nils C. Kumkar (Universität Bamber
 g/Universität Bremen)
ATTENDEE;CN="Moderation: Leon Wolff (Philipps-Universität Marburg)";ROLE=
 REQ-PARTICIPANT:Moderation: Leon Wolff (Philipps-Universität Marburg)
CATEGORIES:()
CREATED:20251103T145329Z
DESCRIPTION:https://www.uni-marburg.de/de/sfb138/aktuelles/termine/unwahrh
 eit-der-polarisierung-vortrag-nils-kumkar\nÖffentlicher Keynotevortrag im
  Rahmen des Workshops "The Truth of Security - The Security of Truth"
LAST-MODIFIED:20251103T151625Z
LOCATION:Philipps-Universität Marburg\, Ketzerbach 63\, Raum +2/0140
URL:https://www.uni-marburg.de/de/sfb138/aktuelles/termine/unwahrheit-der-
 polarisierung-vortrag-nils-kumkar
END:VEVENT
BEGIN:VTIMEZONE
TZID:Europe/Berlin
X-LIC-LOCATION:Europe/Berlin
BEGIN:STANDARD
DTSTART:20251026T020000
TZNAME:CET
TZOFFSETFROM:+0200
TZOFFSETTO:+0100
END:STANDARD
END:VTIMEZONE
END:VCALENDAR
