BEGIN:VCALENDAR
VERSION:2.0
PRODID:-//Plone.org//NONSGML plone.app.event//EN
X-WR-TIMEZONE:Europe/Berlin
BEGIN:VEVENT
SUMMARY:Virtueller Launch der Datenbank "Dynastische Eheverträge"
DTSTART;TZID=Europe/Berlin:20250617T180000
DTEND;TZID=Europe/Berlin:20250617T200000
DTSTAMP:20260422T165935Z
UID:e00e4b5b551846198e552e115dbc6293@www.uni-marburg.de
CREATED:20250613T123422Z
DESCRIPTION:https://www.uni-marburg.de/de/sfb138/aktuelles/termine/virtuel
 ler-launch-der-datenbank-dynastische-ehevertraege\nDer Sonderforschungsber
 eich "Dynamiken der Sicherheit" lädt alle Interessierten herzlich zum vir
 tuellen Launch der Datenbank "Dynastische Eheverträge" ein. Im Rahmen der
  Veranstaltung stellen wir die Datenbank und ihre Nutzungsmöglichkeiten v
 or.
LAST-MODIFIED:20250613T130049Z
LOCATION:Online
URL:https://www.uni-marburg.de/de/sfb138/aktuelles/termine/virtueller-laun
 ch-der-datenbank-dynastische-ehevertraege
END:VEVENT
BEGIN:VTIMEZONE
TZID:Europe/Berlin
X-LIC-LOCATION:Europe/Berlin
BEGIN:DAYLIGHT
DTSTART:20250330T030000
TZNAME:CEST
TZOFFSETFROM:+0100
TZOFFSETTO:+0200
END:DAYLIGHT
END:VTIMEZONE
END:VCALENDAR
