BEGIN:VCALENDAR
VERSION:2.0
PRODID:-//Plone.org//NONSGML plone.app.event//EN
X-WR-TIMEZONE:Europe/Berlin
BEGIN:VEVENT
SUMMARY:Vortrag "Über Kriege und wie sie enden"
DTSTART;TZID=Europe/Berlin:20250705T103000
DTEND;TZID=Europe/Berlin:20250705T120000
DTSTAMP:20260423T052619Z
UID:d23a5b34489b43308c5735ef8a3f1b3e@www.uni-marburg.de
ATTENDEE;CN="Prof. Dr. Jörn Leonhard";ROLE=REQ-PARTICIPANT:Prof. Dr. Jör
 n Leonhard
CREATED:20250625T072358Z
DESCRIPTION:https://www.uni-marburg.de/de/sfb138/aktuelles/termine/vortrag
 -ueber-kriege-und-wie-sie-enden\nDer Sonderforschungsbereich "Dynamiken de
 r Sicherheit" lädt herzlich zum öffentlichen Vortrag "Über Kriege und w
 ie sie enden" des Historikers Prof. Dr. Jörn Leonhard ein.
LAST-MODIFIED:20250625T072416Z
LOCATION:Vortragssaal\, Herder-Insitut für Historische Ostmitteleuropafor
 schung\, Gisonenweg 5-7\, 35037 Marburg
URL:https://www.uni-marburg.de/de/sfb138/aktuelles/termine/vortrag-ueber-k
 riege-und-wie-sie-enden
END:VEVENT
BEGIN:VTIMEZONE
TZID:Europe/Berlin
X-LIC-LOCATION:Europe/Berlin
BEGIN:DAYLIGHT
DTSTART:20250330T030000
TZNAME:CEST
TZOFFSETFROM:+0100
TZOFFSETTO:+0200
END:DAYLIGHT
END:VTIMEZONE
END:VCALENDAR
