BEGIN:VCALENDAR
VERSION:2.0
PRODID:-//Plone.org//NONSGML plone.app.event//EN
X-WR-TIMEZONE:Europe/Berlin
BEGIN:VEVENT
SUMMARY:Workshop "Fake History? Unsichere Vergangenheitsrekonstruktionen a
 uf Social Media"
DTSTART;TZID=Europe/Berlin:20241114T120000
DTEND;TZID=Europe/Berlin:20241115T150000
DTSTAMP:20260422T165936Z
UID:9fdc34c151e54873ade24316430c02b5@www.uni-marburg.de
ATTENDEE;CN="Leonie Schöler | Mia Berg | Gesche Beyer | Jennifer Jessen |
  Alexandra Krebs | Kai Krüger | Nora Lehner | Andrea Lorenz | Mykola Makh
 orttykh | Philipp Marten | Kristin Oswald | Julia Quast | Joachim Roth | V
 ivien Schiefer | Benjamin Schlöglhofer | Ato Schweizer | Jana Spiller | L
 aura Steinbrück | Maryna Sydorova | Victoria Vziatyshova | Florian Wittig
  ";ROLE=REQ-PARTICIPANT:Leonie Schöler | Mia Berg | Gesche Beyer | Jennif
 er Jessen | Alexandra Krebs | Kai Krüger | Nora Lehner | Andrea Lorenz | 
 Mykola Makhorttykh | Philipp Marten | Kristin Oswald | Julia Quast | Joach
 im Roth | Vivien Schiefer | Benjamin Schlöglhofer | Ato Schweizer | Jana 
 Spiller | Laura Steinbrück | Maryna Sydorova | Victoria Vziatyshova | Flo
 rian Wittig 
CREATED:20241024T093958Z
DESCRIPTION:https://www.uni-marburg.de/de/sfb138/aktuelles/termine/worksho
 p-fake-history\n
LAST-MODIFIED:20241024T121727Z
LOCATION:Philipps-Universität Marburg\, Creative Space\, Bahnhofstraße 7
URL:https://www.uni-marburg.de/de/sfb138/aktuelles/termine/workshop-fake-h
 istory
END:VEVENT
BEGIN:VTIMEZONE
TZID:Europe/Berlin
X-LIC-LOCATION:Europe/Berlin
BEGIN:STANDARD
DTSTART:20241027T020000
TZNAME:CET
TZOFFSETFROM:+0200
TZOFFSETTO:+0100
END:STANDARD
END:VTIMEZONE
END:VCALENDAR
