BEGIN:VCALENDAR
VERSION:2.0
PRODID:-//Plone.org//NONSGML plone.app.event//EN
X-WR-TIMEZONE:Europe/Berlin
BEGIN:VEVENT
SUMMARY:Workshop "Securitizing Minorities and Majorities in Multi-Ethnic a
 nd -Lingual Contexts" TP A06
DTSTART;VALUE=DATE:20250616
DTEND;VALUE=DATE:20250618
DTSTAMP:20260423T125453Z
UID:c23d8a54fa4640328e8b988c09062920@www.uni-marburg.de
CREATED:20250718T121447Z
DESCRIPTION:https://www.uni-marburg.de/de/sfb138/aktuelles/termine/worksho
 p-securitizing-minorities-and-majorities-in-multi-ethnic-and-lingual-conte
 xts-tp-a06\n
LAST-MODIFIED:20250718T123629Z
LOCATION:Cracow\, University of the National Education Commission\, Instyt
 ut Historii i Archiwistyki\, ul. Podchorążych 2\, 30-084 Kraków\, room 
 337\, 3rd floor
URL:https://www.uni-marburg.de/de/sfb138/aktuelles/termine/workshop-securi
 tizing-minorities-and-majorities-in-multi-ethnic-and-lingual-contexts-tp-a
 06
END:VEVENT
END:VCALENDAR
