BEGIN:VCALENDAR
VERSION:2.0
PRODID:-//Plone.org//NONSGML plone.app.event//EN
X-WR-TIMEZONE:Europe/Berlin
BEGIN:VEVENT
SUMMARY:Workshop "The Truth of Security - The Security of Truth"
DTSTART;TZID=Europe/Berlin:20251126T090000
DTEND;TZID=Europe/Berlin:20251127T163000
DTSTAMP:20260423T063312Z
UID:9ad81fe2c85a4a96af484829ecae5d8f@www.uni-marburg.de
CATEGORIES:()
CREATED:20251103T143604Z
DESCRIPTION:https://www.uni-marburg.de/de/sfb138/aktuelles/termine/worksho
 p-the-truth-of-security-the-security-of-truth\n
LAST-MODIFIED:20251121T092052Z
LOCATION:Philipps-Universität Marburg\, Ketzerbach 63\, Raum +2/0140
URL:https://www.uni-marburg.de/de/sfb138/aktuelles/termine/workshop-the-tr
 uth-of-security-the-security-of-truth
END:VEVENT
BEGIN:VTIMEZONE
TZID:Europe/Berlin
X-LIC-LOCATION:Europe/Berlin
BEGIN:STANDARD
DTSTART:20251026T020000
TZNAME:CET
TZOFFSETFROM:+0200
TZOFFSETTO:+0100
END:STANDARD
END:VTIMEZONE
END:VCALENDAR
