BEGIN:VCALENDAR
VERSION:2.0
PRODID:-//Plone.org//NONSGML plone.app.event//EN
X-WR-TIMEZONE:Europe/Berlin
BEGIN:VEVENT
SUMMARY:Begrüßungsfest der Stadt Marburg
DTSTART;TZID=Europe/Berlin:20191010T110000
DTEND;TZID=Europe/Berlin:20191010T170000
DTSTAMP:20260423T161650Z
UID:733d2edb314f42e8929b7b91ed5f12a8@www.uni-marburg.de
ATTENDEE;CN="soziale und kulturelle Einrichtungen der Stadt Marburg ";ROLE
 =REQ-PARTICIPANT:soziale und kulturelle Einrichtungen der Stadt Marburg 
ATTENDEE;CN=;ROLE=REQ-PARTICIPANT:
CREATED:20190731T105754Z
DESCRIPTION:https://www.uni-marburg.de/de/studium/im-studium/studienstart/
 aktuelles/termine-19-20/begruessungsfest-der-stadt-marburg\n
LAST-MODIFIED:20240422T082425Z
LOCATION:Marburger Marktplatz\, Oberstadt
URL:https://www.uni-marburg.de/de/studium/im-studium/studienstart/aktuelle
 s/termine-19-20/begruessungsfest-der-stadt-marburg
END:VEVENT
BEGIN:VTIMEZONE
TZID:Europe/Berlin
X-LIC-LOCATION:Europe/Berlin
BEGIN:DAYLIGHT
DTSTART:20190331T030000
TZNAME:CEST
TZOFFSETFROM:+0100
TZOFFSETTO:+0200
END:DAYLIGHT
END:VTIMEZONE
END:VCALENDAR
